Workbook

Sheet EN
M1: Music License Reporting Form
A2: Alberta
A3: British Columbia | M3: For CAPACOA, CLMA, CAFE members
A4: Manitoba | B4: Use this form to calculate amounts owing for RE:SOUND licenses; you may require extra licensing from SOCAN. Please contact us for more details.
A5: New Brunswick
A7: Newfoundland and Labrador | B7: Notes to assist you in completing this form:
A8: Nova Scotia | B8: • This form is used to calculate the amounts owing for use of recorded music to accompany live events only by CAPACOA/CAFE/CLMA members. • Please complete all fields of this form where applicable, and make sure to sign the bottom before submitting it. • If you are unsure about any of the information requested in this form, please contact our Licensing Department for assistance.
A9: Ontario
A10: Prince Edward Island
A11: Quebec
A12: Saskatchewan | C12: Account Number: | Q12: Reporting Year:
A13: Northwest Territories | C13: Business Name: | Q13: Legal Name:
A14: Nunavut | C14: Contact Name: | Q14: Title:
A15: Yukon | C15: Street Address (if multiple locations please attach list):
C16: City: | K16: Province: | R16: Postal Code:
C17: Phone: | K17: Fax: | R17: Email:
C18: Mailing Address (if different from above):
B20: Recorded Music Accompanying Live Entertainment (5.A)
B21: List the total number of performances for both integral and incidental use of music, and total admissions. Enter zeroes (0) if no events.
B22: Admissions Integral Use in a Performance (at least 10% of performance) | G22: # of Events | I22: Admissions Incidental Use in a Performance (less than 10% or 10mins total) | M22: # of Events | O22: Fee | U22: Tax
Y23: 2026
O24: =IF(U12="","Select Year",IF(OR(B24="",G24="",I24="",M24=""), "Please complete all fields", IF(G24+M24>1,MAX(MAX(B24*0.091,G24*41.88)+MAX(I24*0.023,M24*20.94),62.82),MAX(B24*0.091,G24*41.88)+MAX(I24*0.023,M24*20.94)))) -> Select Year | V24: =IFERROR(IF(OR(L16="Ontario"),(O24)*0.13,IF(L16="Quebec",(O24)*0.14975,IF(OR(L16="Nova Scotia",L16="New Brunswick",L16="Newfoundland and Labrador",L16="Prince Edward Island"),(O24)*0.15,IF(OR(L16="Alberta",L16="Manitoba",L16="British Columbia",L16="Saskatchewan",L16="Yukon Territory",L16="Northwest Territories",L16="Nunavut"),(O24)*0.05,0)))),"") -> 0 | Y24: 2027
Y25: 2028
B26: Receptions (5.B) | Y26: 2029
B27: List the number of events held in each room capacity, separated for events without dancing and events with dancing. | Y27: 2030
B28: Number of events without dance | L28: Number of events with dance
B29: Capacity | I29: A | L29: Capacity | Q29: B | V29: tax
B30: 1-100 | F30: x $31.29 | H30: = | I30: =IF(D30="", "", D30*31.29) | L30: 1-100 | O30: x $62.61 | P30: = | Q30: =IF(N30="", "", N30*62.61) | V30: =IFERROR(IF(OR(L16="Ontario"),(I30+Q30)*0.13,IF(L16="Quebec",(I30+Q30)*0.14975,IF(OR(L16="Nova Scotia",L16="New Brunswick",L16="Newfoundland and Labrador",L16="Prince Edward Island"),(I30+Q30)*0.15,IF(OR(L16="Alberta",L16="Manitoba",L16="British Columbia",L16="Saskatchewan",L16="Yukon Territory",L16="Northwest Territories",L16="Nunavut"),(I30+Q30)*0.05,0)))), "") -> 0
B31: 101-300 | F31: x $45.00 | H31: = | I31: =IF(D31="", "",D31*45) | L31: 101-300 | O31: x $90.09 | P31: = | Q31: =IF(N31="", "", N31*90.09) | V31: =IFERROR(IF(OR(L16="Ontario"),(I31+Q31)*0.13,IF(L16="Quebec",(I31+Q31)*0.14975,IF(OR(L16="Nova Scotia",L16="New Brunswick",L16="Newfoundland and Labrador",L16="Prince Edward Island"),(I31+Q31)*0.15,IF(OR(L16="Alberta",L16="Manitoba",L16="British Columbia",L16="Saskatchewan",L16="Yukon Territory",L16="Northwest Territories",L16="Nunavut"),(I31+Q31)*0.05,0)))), "") -> 0
B32: 301-500 | F32: x $93.92 | H32: = | I32: =IF(D32="", "", D32*93.92) | L32: 301-500 | O32: x $187.82 | P32: = | Q32: =IF(N32="", "", N32*187.82) | V32: =IFERROR(IF(OR(L16="Ontario"),(I32+Q32)*0.13,IF(L16="Quebec",(I32+Q32)*0.14975,IF(OR(L16="Nova Scotia",L16="New Brunswick",L16="Newfoundland and Labrador",L16="Prince Edward Island"),(I32+Q32)*0.15,IF(OR(L16="Alberta",L16="Manitoba",L16="British Columbia",L16="Saskatchewan",L16="Yukon Territory",L16="Northwest Territories",L16="Nunavut"),(I32+Q32)*0.05,0)))),"") -> 0
B33: Over 500 | F33: x $133.05 | H33: = | I33: =IF(D33="", "", D33*133.05) | L33: Over 500 | O33: x $266.11 | P33: = | Q33: =IF(N33="", "", N33*266.11) | V33: =IFERROR(IF(OR(L16="Ontario"),(I33+Q33)*0.13,IF(L16="Quebec",(I33+Q33)*0.14975,IF(OR(L16="Nova Scotia",L16="New Brunswick",L16="Newfoundland and Labrador",L16="Prince Edward Island"),(I33+Q33)*0.15,IF(OR(L16="Alberta",L16="Manitoba",L16="British Columbia",L16="Saskatchewan",L16="Yukon Territory",L16="Northwest Territories",L16="Nunavut"),(I33+Q33)*0.05,0)))),"") -> 0
B35: Festivals, Exhibitions and Fairs (5.D)
B36: Enter the number of days and total attendance, using separate lines per event. Enter zeroes (0) if no events. | X36: Yes
B37: # of Days | D37: Total Attendance | H37: Avg. Attendance | J37: Fee Per Day | L37: Subtotal | N37: tax
H38: =IF(OR(B38="",D38=""),"",D38/B38) | J38: =Calc!B20 -> Select Year | L38: =IFERROR(IF(B38="","",(J38*B38)),"") | N38: =IFERROR(IF(OR(L16="Ontario"),(L38)*0.13,IF(L16="Quebec",(L38)*0.14975,IF(OR(L16="Nova Scotia",L16="New Brunswick",L16="Newfoundland and Labrador",L16="Prince Edward Island"),(L38)*0.15,IF(OR(L16="Alberta",L16="Manitoba",L16="British Columbia",L16="Saskatchewan",L16="Yukon Territory",L16="Northwest Territories",L16="Nunavut"),(L38)*0.05,0)))),"") -> 0
A39: TRUE | H39: =IF(OR(B39="",D39=""),"",D39/B39) | J39: =Calc!B21 -> Select Year | L39: =IFERROR(IF(B39="","",(J39*B39)),"") | N39: =IFERROR(IF(OR(L16="Ontario"),(L39)*0.13,IF(L16="Quebec",(L39)*0.14975,IF(OR(L16="Nova Scotia",L16="New Brunswick",L16="Newfoundland and Labrador",L16="Prince Edward Island"),(L39)*0.15,IF(OR(L16="Alberta",L16="Manitoba",L16="British Columbia",L16="Saskatchewan",L16="Yukon Territory",L16="Northwest Territories",L16="Nunavut"),(L39)*0.05,0)))),"") -> 0
B41: Concerts (5.J)
B42: List the total number of performances. Enter zeroes (0) if no events.
B43: # of Concerts with Recorded Music | F43: Subtotal | K43: Tax | M43: Capacity
F45: =Calc!B14 -> Select Year | K45: =IFERROR(IF(OR(L16="Ontario"),(F45)*0.13,IF(L16="Quebec",(F45)*0.14975,IF(OR(L16="Nova Scotia",L16="New Brunswick",L16="Newfoundland and Labrador",L16="Prince Edward Island"),(F45)*0.15,IF(OR(L16="Alberta",L16="Manitoba",L16="British Columbia",L16="Saskatchewan",L16="Yukon Territory",L16="Northwest Territories",L16="Nunavut"),(F45)*0.05,0)))),"") -> 0
...

Sheet Calc
A1: ENG
A2: 5.A | B2: 2022 | C2: Min | D2: 2023 | E2: Min Per Event | F2: Min Annual | G2: 2024 | H2: Min Per Event | I2: Min Annual | J2: 2025 | K2: Min Per Event | L2: Min Annual
A3: INTEGRAL | B3: =EN!B24*0.064 -> 0 | C3: =IF(B3=0,0,IF(B3<40,40,B3)) -> 0 | D3: =EN!B24*0.087 -> 0 | E3: =IF(D3<(EN!G24*40),(EN!G24*40),D3) -> 0 | F3: =IF((D3+D4)<60,60,(D3+D4)) -> 60 | G3: =EN!B24*0.087 -> 0 | H3: =IF(G3<(EN!G24*40),(EN!G24*40),G3) -> 0 | I3: =IF((G3+G4)<60,60,(G3+G4)) -> 60 | J3: =EN!B24*0.087 -> 0 | K3: =IF(J3<(EN!G24*40),(EN!G24*40),J3) -> 0 | L3: =IF((J3+J4)<60,60,(J3+J4)) -> 60
A4: INCIDENTAL | B4: =EN!I24*0.016 -> 0 | C4: =IF(B4=0,0,IF(B4<20,20,B4)) -> 0 | D4: =EN!I24*0.022 -> 0 | E4: =IF(D4<(EN!M24*20),(EN!M24*20),D4) -> 0 | G4: =EN!I24*0.022 -> 0 | H4: =IF(G4<(EN!M24*20),(EN!M24*20),G4) -> 0 | J4: =EN!I24*0.022 -> 0 | K4: =IF(J4<(EN!M24*20),(EN!M24*20),J4) -> 0
D5: Multi shows OR annual | E5: =IF((EN!G24+EN!M24)<2, "Per Event", "Annual") -> Per Event | G5: Multi shows OR annual | H5: =IF((EN!G24+EN!M24)<2, "Per Event", "Annual") -> Per Event | J5: Multi shows OR annual | K5: =IF((EN!G24+EN!M24)<2, "Per Event", "Annual") -> Per Event
A6: YEAR SELECT WARN - INTEG | B6: =IF(OR(EN!U12=2026, EN!U12=2027, EN!U12=2028, EN!U12=2029, EN!U12=2030),IF(EN!U12=2026, C3,IF(EN!U12=2027, E6,IF(EN!U12=2028, H6,IF(EN!U12=2029, K6, 0)))), "Select Year") -> Select Year | D6: Annual vs Per Event Calc | E6: =IF(E5="Per Event", (E3+E4), (F3)) -> 0 | G6: Annual Min | H6: =IF(H5="Per Event", (H3+H4), (I3)) -> 0 | J6: Annual Min | K6: =IF(K5="Per Event", (K3+K4), (L3)) -> 0
A7: YEAR SELECT WARN - INCID | B7: =IF(OR(EN!U12=2022, EN!U12=2023, EN!U12=2024, EN!U12=2025),IF(EN!U12=2022, C4,IF(EN!U12=2023, E6,IF(EN!U12=2024, H6,IF(EN!U12=2025, K6, 0)))), "Select Year") -> Select Year
A9: 5.J (NOTE, NO 2022 CONSIDERATION IN CALCS) | B9: line 1 | D9: line 2 | E9: line 3
A10: BASE CALC | B10: =EN!M45*0.003761 -> 0 | C10: =IF(EN!B45=0,0,IF(EN!B45>3,62.82,(EN!B45*20.94))) -> 0 | D10: =EN!#REF!*0.003761 -> #REF! | E10: =EN!#REF!*0.003761 -> #REF!
A11: PER EVENT MIN | B11: =IF(B10<15,(15*EN!B45),(B10*EN!B45)) -> 0 | D11: =IF(D10<15,(15*EN!#REF!),(D10*EN!#REF!)) -> #REF! | E11: =IF(E10<15,(15*EN!#REF!),(E10*EN!#REF!)) -> #REF!
A12: ANNUAL MIN | B12: =IF(B11<60, 60,B11) -> 60 | D12: =IF(D11<60, 60,D11) -> #REF! | E12: =IF(E11<60, 60,E11) -> #REF!
A13: Final calc (incl if 1 event) | B13: =IF(EN!B45=1, B11, IF(EN!B45>1, B12, "")) | D13: =IF(EN!#REF!=1, D11, IF(EN!#REF!>1, D12, "")) -> #REF! | E13: =IF(EN!#REF!=1, E11, IF(EN!#REF!>1, E12, "")) -> #REF!
A14: YEAR SELECT WARN | B14: =IF(EN!U12="","Select Year",C10) -> Select Year | D14: =IF(OR(EN!U12=2022, EN!U12=2023, EN!U12=2024, EN!U12=2025),D13, "Select Year") -> Select Year | E14: =IF(OR(EN!U12=2022, EN!U12=2023, EN!U12=2024, EN!U12=2025),E13, "Select Year") -> Select Year
A17: 5.D | H17: =IF(D3<(EN!G24*40),(EN!G24*40),D3) -> 0
A18: Attendents per day | B18: =IF(EN!H38="","",IF(EN!H38<5001,19.89,IF(EN!H38<7001,35.6,IF(EN!H38<10001,50.26,IF(EN!H38<15001,80.62,IF(EN!H38<20001,105.75,IF(EN!H38<30001,151.82,IF(EN!H38<40001,212.54,IF(EN!H38<50001,273.27,IF(EN!H38<75001,379.01,IF(EN!H38<100001,530.83,IF(EN!H38<150001,758.03,IF(EN!H38<200001,1061.66,IF(EN!H38>200000,1516.06,0)))))))))))))) | H18: =IF(D4<(EN!M24*20),(EN!M24*20),D4) -> 0
A19: Attendents per day | B19: =IF(EN!H39="","", IF(EN!H39<5001,19.89, IF(EN!H39<7001,35.6, IF(EN!H39<10001,50.26, IF(EN!H39<15001,80.62, IF(EN!H39<20001,105.75, IF(EN!H39<30001,151.82, IF(EN!H39<40001,212.54, IF(EN!H39<50001,273.27, IF(EN!H39<75001,379.01, IF(EN!H39<100001,530.83, IF(EN!H39<150001,758.03, IF(EN!H39<200001,1061.66, IF(EN!H39>200000,1516.06,0))))))))))))))
A20: YEAR SELECT WARN | B20: =IF(EN!U12="","Select Year",B18) -> Select Year
A21: YEAR SELECT WARN | B21: =IF(EN!U12="","Select Year",B19) -> Select Year
A25: FR
A26: 5.A | B26: 2022 | C26: Min | D26: 2023 | E26: Min | F26: Min Annual | G26: 2024 | H26: Min | I26: Min Annual | J26: 2025 | K26: Min | L26: Min Annual
A27: INTEGRAL | B27: =FR!B28*0.064 -> 0 | C27: =IF(B27=0,"",IF(B27<40,40,B27)) | D27: =FR!B28*0.087 -> 0 | E27: =IF(D27<(FR!G28*40),(FR!G28*40),D27) -> 0 | F27: =IF((D27+D28)<60,60,(D27+D28)) -> 60 | G27: =FR!B28*0.087 -> 0 | H27: =IF(G27<(FR!G28*40),(FR!G28*40),G27) -> 0 | I27: =IF((G27+G28)<60,60,(G27+G28)) -> 60 | J27: =FR!B28*0.087 -> 0 | K27: =IF(J27<(FR!G28*40),(FR!G28*40),J27) -> 0 | L27: =IF((J27+J28)<60,60,(J27+J28)) -> 60
A28: INCIDENTAL | B28: =FR!H28*0.016 -> 0 | C28: =IF(B28=0,"",IF(B28<20,20,B28)) | D28: =FR!H28*0.022 -> 0 | E28: =IF(D28<(FR!L28*20),(FR!L28*20),D28) -> 0 | G28: =FR!H28*0.022 -> 0 | H28: =IF(G28<(FR!L28*20),(FR!L28*20),G28) -> 0 | J28: =FR!H28*0.022 -> 0 | K28: =IF(J28<(FR!L28*20),(FR!L28*20),J28) -> 0
D29: Multi Shows OR Annual | E29: =IF((FR!G28+FR!L28)<2, "Per Event", "Annual") -> Per Event | G29: Multi Shows OR Annual | H29: =IF((FR!G28+FR!L28)<2, "Per Event", "Annual") -> Per Event | J29: Multi Shows OR Annual | K29: =IF((FR!G28+FR!L28)<2, "Per Event", "Annual") -> Per Event
A30: YEAR SELECT WARN - INTEG | B30: =IF(OR(FR!U15=2022, FR!U15=2023, FR!U15=2024, FR!U15=2025),IF(FR!U15=2022, C27,IF(FR!U15=2023, E30,IF(FR!U15=2024, H30,IF(FR!U15=2025, K30, 0)))), "Sélectionner Année") -> Sélectionner Année | D30: Annual vs Per Event Calc | E30: =IF(E29="Per Event", (E27+E28), (F27)) -> 0 | G30: Annual vs Per Event Calc | H30: =IF(H29="Per Event", (H27+H28), (I27)) -> 0 | J30: Annual vs Per Event Calc | K30: =IF(K29="Per Event", (K27+K28), (L27)) -> 0
A31: YEAR SELECT WARN - INCID | B31: =IF(OR(FR!U15=2022, FR!U15=2023, FR!U15=2024, FR!U15=2025),IF(FR!U15=2022, C28,IF(FR!U15=2023, E28,IF(FR!U15=2024, H28,IF(FR!U15=2025, K28, 0)))), "Sélectionner Année") -> Sélectionner Année
A34: 5.J (NOTE, NO 2022 CONSIDERATION IN CALCS) | B34: line 1 | D34: line 2 | G34: line 3
A35: BASE CALC | B35: =FR!S50*0.003761 -> 0 | C35: =IF(FR!B50=0,0,IF(FR!B50<3, (FR!B50*20.94), 62.82)) -> 0 | D35: =FR!#REF!*0.003761 -> #REF! | G35: =FR!#REF!*0.003761 -> #REF!
A36: PER EVENT MIN | B36: =IF(B35<15,(15*FR!B50),(B35*FR!B50)) -> 0 | D36: =IF(D35<15,(15*FR!#REF!),(D35*FR!#REF!)) -> #REF! | G36: =IF(G35<15,(15*FR!#REF!),(G35*FR!#REF!)) -> #REF!
A37: ANNUAL MIN | B37: =IF(B36<60, 60,B36) -> 60 | D37: =IF(D36<60, 60,D36) -> #REF! | G37: =IF(G36<60, 60,G36) -> #REF!
A38: Final calc (incl if 1 event) | B38: =IF(FR!B50=1, B36, IF(FR!B50>1, B37, "")) | D38: =IF(FR!#REF!=1, D36, IF(FR!#REF!>1, D37, "")) -> #REF! | G38: =IF(FR!#REF!=1, G36, IF(FR!#REF!>1, G37, "")) -> #REF!
A39: YEAR SELECT WARN | B39: =IF(FR!U15="","Séléctionner Année",C35) -> Séléctionner Année | D39: =IF(OR(FR!U15=2022, FR!U15=2023,FR!U15=2024, FR!U15=2025),D38, "Séléctionner Année") -> Séléctionner Année | G39: =IF(OR(FR!U15=2022,FR!U15=2023,FR!U15=2024, FR!U15=2025),G38, "Séléctionner Année") -> Séléctionner Année
A42: 5.D
A43: Attendents per day | B43: =IF(FR!D43="","",IF(FR!H43<5001,19.89,IF(FR!H43<7001,35.6,IF(FR!H43<10001,50.26,IF(FR!H43<15001,80.62,IF(FR!H43<20001,105.75,IF(FR!H43<30001,151.82,IF(FR!H43<40001,212.54,IF(FR!H43<50001,273.27,IF(FR!H43<75001,379.01,IF(FR!H43<100001,530.83,IF(FR!H43<150001,758.03,IF(FR!H43<200001,1061.66,IF(FR!H43>200000,1516.06,0))))))))))))))
A44: Attendents per day | B44: =IF(FR!D44="","",IF(FR!H44<5001,19.89,IF(FR!H44<7001,35.6,IF(FR!H44<10001,50.26,IF(FR!H44<15001,80.62,IF(FR!H44<20001,105.75,IF(FR!H44<30001,151.82,IF(FR!H44<40001,212.54,IF(FR!H44<50001,273.27,IF(FR!H44<75001,379.01,IF(FR!H44<100001,530.83,IF(FR!H44<150001,758.03,IF(FR!H44<200001,1061.66,IF(FR!H44>200000,1516.06,0))))))))))))))
A45: YEAR SELECT WARN | B45: =IF(FR!U15="","Séléctionner Année",B43) -> Séléctionner Année
A46: YEAR SELECT WARN | B46: =IF(FR!U15="","Séléctionner Année",B44) -> Séléctionner Année

Sheet FR
K1: Formulaire de rapport de licence musicale
A2: Alberta | G2: Pour les membres de CAPACOA, CAFÉ, CLMA
A3: Colombie-Britannique
A4: Île-du-Prince-Édouard
A5: Manitoba
A6: Nouveau-Brunswick | B6: Prière d’utiliser ce formulaire pour le calcul des montants dus pour les licences RÉ:SONNE ; des licences additionnelles de la SOCAN peuvent être nécessaires. Veuillez communiquer avec nous pour plus de détails.
A7: Nouvelle-Écosse
A8: Nunavut
A9: Ontario | B9: Voici quelques informations afin de vous aider dans ce processus :
A10: Québec | B10: • Ce formulaire est utilisé pour calculer les montants dus pour l’utilisation de musique enregistrée pour accompagner des événements en direct uniquement par les membres de CAPACOA/CAFE/CLMA. • Veuillez remplir tous les champs applicables du formulaire et le signer avant de le soumettre. • Si vous avez des doutes sur l’une des informations demandées dans ce formulaire, veuillez contacter notre Division des licences pour obtenir de l’aide.
A11: Saskatchewan
A12: Terre-Neuve-et-Labrador
A13: Territoires du Nord-Ouest
A14: Yukon Territoire
C15: Numéro de compte : | Q15: Année :
C16: Nom de l’entreprise : | Q16: Nom légal : | AA16: 2026 | AD16: 2023
C17: Contact : | Q17: Titre : | AA17: 2027 | AD17: 2024
C18: Adresse (énumérez toutes les adresses s’il y a plus d’emplacements) : | AA18: 2028 | AD18: 2025
C19: Ville : | K19: Province : | R19: Code postal : | AA19: 2029
C20: Téléphone : | J20: Télécopieur : | R20: Courriel : | AA20: 2030
C21: Adresse postale (si différente de l’adresse ci-dessus) :
B24: Musique enregistrée accompagnant un spectacle (5.A)
B25: Indiquez le nombre total d’exécutions pour l’utilisation intégrale et accessoire de la musique, et nombre total des admissions total de billets. Entrez des zéros (0) s'il n'y a pas d'événements.
B26: Admissions Utilisation Intégral (au moins 10% par performance) | G26: Nombre d'événements | H26: Admissions Utilisation Accessoire (moins de 10% ou 10mins totale) | L26: Nombre d'événements | N26: Redevance | Q26: Tax
N28: =IF(U15="","Sélectionner Année",IF(OR(B28="",G28="",H28="",L28=""),"SVP remplissez tous les champs", IF(G28+L28>1, MAX(MAX(B28*0.091,G28*41.88)+MAX(FR!H28*0.023,L28*20.94),62.82), MAX(B28*0.091,G28*41.88)+MAX(FR!H28*0.023,FR!L28*20.94)))) -> Sélectionner Année | R28: =IFERROR(IF(OR(L19="Ontario"),N28*0.13,IF(L19="Québec",N28*0.14975,IF(OR(L19="Nouvelle-Écosse",L19="Nouveau-Brunswick",L19="Terre-Neuve-et-Labrador",L19="Île-du-Prince-Édouard"),N28*0.15,IF(OR(L19="Alberta",L19="Manitoba",L19="Colombie-Britannique",L19="Saskatchewan",L19="Yukon Territoire",L19="Territoires du Nord-Ouest",L19="Nunavut"),N28*0.05,0)))),"") -> 0
B30: Réceptions (5.B)
B31: Listez le nombre d'événements organisés dans chaque capacité de salle, séparés pour les événements sans danse et les événements avec danse.
B32: Nombre d’événements sans danse | L32: Nombre d’événements avec danse | S32: B
B33: Capacité | I33: A | L33: Capacité | W33: tax
B34: 1-100 | F34: x $31.29 | H34: = | I34: =IF(D34="", "", D34*31.29) | L34: 1-100 | O34: x $62.61 | Q34: = | R34: =IF(N34="", "", N34*62.61) | W34: =IFERROR(IF(OR(L19="Ontario"),(I34+R34)*0.13,IF(L19="Québec",(I34+R34)*0.14975,IF(OR(L19="Nouvelle-Écosse",L19="Nouveau-Brunswick",L19="Terre-Neuve-et-Labrador",L19="Île-du-Prince-Édouard"),(I34+R34)*0.15,IF(OR(L19="Alberta",L19="Manitoba",L19="Colombie-Britannique",L19="Saskatchewan",L19="Yukon Territoire",L19="Territoires du Nord-Ouest",L19="Nunavut"),(I34+R34)*0.05,0)))),"") -> 0
B35: 101-300 | F35: x $45.00 | H35: = | I35: =IF(D35="", "",D35*45) | L35: 101-300 | O35: x $90.09 | Q35: = | R35: =IF(N35="", "", N35*90.09) | W35: =IFERROR(IF(OR(L19="Ontario"),(I35+R35)*0.13,IF(L19="Québec",(I35+R35)*0.14975,IF(OR(L19="Nouvelle-Écosse",L19="Nouveau-Brunswick",L19="Terre-Neuve-et-Labrador",L19="Île-du-Prince-Édouard"),(I35+R35)*0.15,IF(OR(L19="Alberta",L19="Manitoba",L19="Colombie-Britannique",L19="Saskatchewan",L19="Yukon Territoire",L19="Territoires du Nord-Ouest",L19="Nunavut"),(I35+R35)*0.05,0)))),"") -> 0
B36: 301-500 | F36: x $93.92 | H36: = | I36: =IF(D36="", "", D36*93.92) | L36: 301-500 | O36: x $187.82 | Q36: = | R36: =IF(N36="", "", N36*187.82) | W36: =IFERROR(IF(OR(L19="Ontario"),(I36+R36)*0.13,IF(L19="Québec",(I36+R36)*0.14975,IF(OR(L19="Nouvelle-Écosse",L19="Nouveau-Brunswick",L19="Terre-Neuve-et-Labrador",L19="Île-du-Prince-Édouard"),(I36+R36)*0.15,IF(OR(L19="Alberta",L19="Manitoba",L19="Colombie-Britannique",L19="Saskatchewan",L19="Yukon Territoire",L19="Territoires du Nord-Ouest",L19="Nunavut"),(I36+R36)*0.05,0)))),"") -> 0
B37: Plus de 500 | F37: x $133.05 | H37: = | I37: =IF(D37="", "", D37*133.05) | L37: Plus de 500 | O37: x $266.11 | Q37: = | R37: =IF(N37="", "", N37*266.11) | W37: =IFERROR(IF(OR(L19="Ontario"),(I37+R37)*0.13,IF(L19="Québec",(I37+R37)*0.14975,IF(OR(L19="Nouvelle-Écosse",L19="Nouveau-Brunswick",L19="Terre-Neuve-et-Labrador",L19="Île-du-Prince-Édouard"),(I37+R37)*0.15,IF(OR(L19="Alberta",L19="Manitoba",L19="Colombie-Britannique",L19="Saskatchewan",L19="Yukon Territoire",L19="Territoires du Nord-Ouest",L19="Nunavut"),(I37+R37)*0.05,0)))),"") -> 0
B40: Festivals, Expositions et Foires (5.D)
B41: Indiquez le nombre de jours qu'a duré l'événement et l'assistance totale. Entrez des zéros (0) s'il n'y a pas d'événement.
B42: # de Jours | D42: Assistance Totale | H42: Assistance Moyenne | J42: Redevance Quotidienne | M42: Sous-total | O42: tax | AB42: Oui
H43: =IF(OR(B43="",D43=""),"",D43/B43) | J43: =Calc!B45 -> Séléctionner Année | M43: =IFERROR(IF(B43="","",(J43*B43)),"") | O43: =IFERROR(IF(OR(L19="Ontario"),M43*0.13,IF(L19="Québec",M43*0.14975,IF(OR(L19="Nouvelle-Écosse",L19="Nouveau-Brunswick",L19="Terre-Neuve-et-Labrador",L19="Île-du-Prince-Édouard"),M43*0.15,IF(OR(L19="Alberta",L19="Manitoba",L19="Colombie-Britannique",L19="Saskatchewan",L19="Yukon Territoire",L19="Territoires du Nord-Ouest",L19="Nunavut"),M43*0.05,0)))),"") -> 0
H44: =IF(OR(B44="",D44=""),"",D44/B44) | J44: =Calc!B46 -> Séléctionner Année | M44: =IFERROR(IF(B44="","",(J44*B44)),"") | O44: =IFERROR(IF(OR(L19="Ontario"),M44*0.13,IF(L19="Québec",M44*0.14975,IF(OR(L19="Nouvelle-Écosse",L19="Nouveau-Brunswick",L19="Terre-Neuve-et-Labrador",L19="Île-du-Prince-Édouard"),M44*0.15,IF(OR(L19="Alberta",L19="Manitoba",L19="Colombie-Britannique",L19="Saskatchewan",L19="Yukon Territoire",L19="Territoires du Nord-Ouest",L19="Nunavut"),M44*0.05,0)))),"") -> 0
B46: Concerts (5.J)
B47: Indiquez le nombre de concerts. Entrez zéro (0) s'il n'y a pas d'événement.
...
